BEGIN:VCALENDAR
VERSION:2.0
PRODID:gardens-calendar
X-PUBLISHED-TTL:P1W
BEGIN:VEVENT
UID:69e730add0069
DTSTART;VALUE=DATE:20260629
SEQUENCE:0
TRANSP:OPAQUE
DTEND;VALUE=DATE:20260712
SUMMARY:Pergola Open Air Theatre
CLASS:PUBLIC
X-MICROSOFT-CDO-ALLDAYEVENT:TRUE
DTSTAMP:20260421T080917Z
END:VEVENT
BEGIN:VEVENT
UID:69e730add0997
DTSTART;VALUE=DATE:20230628
SEQUENCE:0
TRANSP:OPAQUE
SUMMARY:Create your own topiary
CLASS:PUBLIC
X-MICROSOFT-CDO-ALLDAYEVENT:TRUE
DTSTAMP:20260421T080917Z
END:VEVENT
BEGIN:VEVENT
UID:69e730add09c6
DTSTART;VALUE=DATE:20260522
SEQUENCE:0
TRANSP:OPAQUE
SUMMARY:Campus Open Day - Sussex
CLASS:PUBLIC
X-MICROSOFT-CDO-ALLDAYEVENT:TRUE
DTSTAMP:20260421T080917Z
END:VEVENT
BEGIN:VEVENT
UID:69e730add09ed
DTSTART;VALUE=DATE:20251129
SEQUENCE:0
TRANSP:OPAQUE
SUMMARY:West Dean Christmas Market
CLASS:PUBLIC
X-MICROSOFT-CDO-ALLDAYEVENT:TRUE
DTSTAMP:20260421T080917Z
END:VEVENT
BEGIN:VEVENT
UID:69e730add0a11
DTSTART;VALUE=DATE:20260324
SEQUENCE:0
TRANSP:OPAQUE
DTEND;VALUE=DATE:20261028
SUMMARY:Garden Tour & Cream Tea
CLASS:PUBLIC
X-MICROSOFT-CDO-ALLDAYEVENT:TRUE
DTSTAMP:20260421T080917Z
END:VEVENT
BEGIN:VEVENT
UID:69e730add0b1d
DTSTART;VALUE=DATE:20260626
SEQUENCE:0
TRANSP:OPAQUE
SUMMARY:Midsummer Evening Garden Tour with Tom Brown
CLASS:PUBLIC
X-MICROSOFT-CDO-ALLDAYEVENT:TRUE
DTSTAMP:20260421T080917Z
END:VEVENT
BEGIN:VEVENT
UID:69e730add0b42
DTSTART;VALUE=DATE:20250826
SEQUENCE:0
TRANSP:OPAQUE
SUMMARY:Garden Tour & Cream Tea
CLASS:PUBLIC
X-MICROSOFT-CDO-ALLDAYEVENT:TRUE
DTSTAMP:20260421T080917Z
END:VEVENT
BEGIN:VEVENT
UID:69e730add0b64
DTSTART;VALUE=DATE:20251127
SEQUENCE:0
TRANSP:OPAQUE
SUMMARY:Wreath Making & Festive Dinner
CLASS:PUBLIC
X-MICROSOFT-CDO-ALLDAYEVENT:TRUE
DTSTAMP:20260421T080917Z
END:VEVENT
BEGIN:VEVENT
UID:69e730add0b85
DTSTART;VALUE=DATE:20251022
SEQUENCE:0
TRANSP:OPAQUE
DTEND;VALUE=DATE:20261015
SUMMARY:House Tour & Cream Tea
CLASS:PUBLIC
X-MICROSOFT-CDO-ALLDAYEVENT:TRUE
DTSTAMP:20260421T080917Z
END:VEVENT
BEGIN:VEVENT
UID:69e730add0c62
DTSTART;VALUE=DATE:20260815
SEQUENCE:0
TRANSP:OPAQUE
SUMMARY:Classical Guitar Festival Concert by SoloDuo
CLASS:PUBLIC
X-MICROSOFT-CDO-ALLDAYEVENT:TRUE
DTSTAMP:20260421T080917Z
END:VEVENT
BEGIN:VEVENT
UID:69e730add0c85
DTSTART;VALUE=DATE:20260818
SEQUENCE:0
TRANSP:OPAQUE
SUMMARY:Classical Guitar Festival Concert by Laura Snowden
CLASS:PUBLIC
X-MICROSOFT-CDO-ALLDAYEVENT:TRUE
DTSTAMP:20260421T080917Z
END:VEVENT
BEGIN:VEVENT
UID:69e730add0cc5
DTSTART;VALUE=DATE:20260817
SEQUENCE:0
TRANSP:OPAQUE
SUMMARY:Classical Guitar Festival Concert by Raphaella Smits
CLASS:PUBLIC
X-MICROSOFT-CDO-ALLDAYEVENT:TRUE
DTSTAMP:20260421T080917Z
END:VEVENT
BEGIN:VEVENT
UID:69e730add0ce8
DTSTART;VALUE=DATE:20260816
SEQUENCE:0
TRANSP:OPAQUE
SUMMARY:Classical Guitar Festival Open Day\, including Recital by Ingrid Ri
 ollot
CLASS:PUBLIC
X-MICROSOFT-CDO-ALLDAYEVENT:TRUE
DTSTAMP:20260421T080917Z
END:VEVENT
BEGIN:VEVENT
UID:69e730add0d08
DTSTART;VALUE=DATE:20260501
SEQUENCE:0
TRANSP:OPAQUE
DTEND;VALUE=DATE:20260505
SUMMARY:ROSA Botanical Art Fair
CLASS:PUBLIC
X-MICROSOFT-CDO-ALLDAYEVENT:TRUE
DTSTAMP:20260421T080917Z
END:VEVENT
BEGIN:VEVENT
UID:69e730add0df1
DTSTART;VALUE=DATE:20260523
SEQUENCE:0
TRANSP:OPAQUE
DTEND;VALUE=DATE:20260601
SUMMARY:Pollinator Quest - May Half-Term Activities
CLASS:PUBLIC
X-MICROSOFT-CDO-ALLDAYEVENT:TRUE
DTSTAMP:20260421T080917Z
END:VEVENT
END:VCALENDAR